BEGIN:VCALENDAR
VERSION:2.0
PRODID:-//YourAppName//EN
BEGIN:VEVENT
UID:e80ab292-8bf0-4bd3-b3bc-fc031de5382a
DTSTAMP:20260423T113558Z
DTSTART:20260305T170000Z
DTEND:20260305T210000Z
SUMMARY:Public Auction - SEVIER
DESCRIPTION:Commissioner of State Lands Public Auction for counties: SEVIER
LOCATION:Sevier County Courthouse, Conference Room 103, De Queen
END:VEVENT
BEGIN:VEVENT
UID:28c84e48-7197-4ce3-bace-4682c9b66ef0
DTSTAMP:20260423T113558Z
DTSTART:20260709T050000Z
DTEND:20260709T090000Z
SUMMARY:Public Auction - PULASKI
DESCRIPTION:Commissioner of State Lands Public Auction for counties: PULASKI
LOCATION:, 
END:VEVENT
BEGIN:VEVENT
UID:a8e26a16-4bd9-4a34-bbd1-4064f858b37a
DTSTAMP:20260423T113558Z
DTSTART:20260714T050000Z
DTEND:20260714T090000Z
SUMMARY:Public Auction - PRAIRIE,LONOKE,ARKANSAS
DESCRIPTION:Commissioner of State Lands Public Auction for counties: PRAIRIE,LONOKE,ARKANSAS
LOCATION:, 
END:VEVENT
BEGIN:VEVENT
UID:eb9dfca0-0144-4b87-b692-a66044be803c
DTSTAMP:20260423T113558Z
DTSTART:20260716T050000Z
DTEND:20260716T090000Z
SUMMARY:Public Auction - CLARK,DALLAS,NEVADA,OUACHITA
DESCRIPTION:Commissioner of State Lands Public Auction for counties: CLARK,DALLAS,NEVADA,OUACHITA
LOCATION:, 
END:VEVENT
BEGIN:VEVENT
UID:537c6d6a-7c9c-4de5-830d-34ec725c27b5
DTSTAMP:20260423T113558Z
DTSTART:20260721T050000Z
DTEND:20260721T090000Z
SUMMARY:Public Auction - SCOTT,SEBASTIAN,LOGAN,CRAWFORD,FRANKLIN
DESCRIPTION:Commissioner of State Lands Public Auction for counties: SCOTT,SEBASTIAN,LOGAN,CRAWFORD,FRANKLIN
LOCATION:, 
END:VEVENT
BEGIN:VEVENT
UID:79ccfc37-fca4-42c8-8bae-3840808f5af8
DTSTAMP:20260423T113558Z
DTSTART:20260723T050000Z
DTEND:20260723T090000Z
SUMMARY:Public Auction - HEMPSTEAD,LITTLE RIVER,LAFAYETTE,MILLER
DESCRIPTION:Commissioner of State Lands Public Auction for counties: HEMPSTEAD,LITTLE RIVER,LAFAYETTE,MILLER
LOCATION:, 
END:VEVENT
BEGIN:VEVENT
UID:ad7a1bf2-9c6c-4e37-a0df-8ba30a087deb
DTSTAMP:20260423T113558Z
DTSTART:20260728T050000Z
DTEND:20260728T090000Z
SUMMARY:Public Auction - GARLAND
DESCRIPTION:Commissioner of State Lands Public Auction for counties: GARLAND
LOCATION:, 
END:VEVENT
BEGIN:VEVENT
UID:b6cbd3b9-bcbb-4b4d-8aaf-aed1e7b4b57d
DTSTAMP:20260423T113558Z
DTSTART:20260730T050000Z
DTEND:20260730T090000Z
SUMMARY:Public Auction - CONWAY,JOHNSON,POPE,YELL
DESCRIPTION:Commissioner of State Lands Public Auction for counties: CONWAY,JOHNSON,POPE,YELL
LOCATION:, 
END:VEVENT
BEGIN:VEVENT
UID:784d4812-1638-4284-973e-f2382e8f707c
DTSTAMP:20260423T113558Z
DTSTART:20260804T050000Z
DTEND:20260804T090000Z
SUMMARY:Public Auction - LINCOLN,CLEVELAND,CHICOT,ASHLEY,BRADLEY,DESHA,DREW
DESCRIPTION:Commissioner of State Lands Public Auction for counties: LINCOLN,CLEVELAND,CHICOT,ASHLEY,BRADLEY,DESHA,DREW
LOCATION:, 
END:VEVENT
BEGIN:VEVENT
UID:46c5302a-f4e1-40c9-929b-c6325853cb31
DTSTAMP:20260423T113558Z
DTSTART:20260806T050000Z
DTEND:20260806T090000Z
SUMMARY:Public Auction - JEFFERSON
DESCRIPTION:Commissioner of State Lands Public Auction for counties: JEFFERSON
LOCATION:, 
END:VEVENT
BEGIN:VEVENT
UID:1205b44e-cf9a-4764-9f81-3135300eec3d
DTSTAMP:20260423T113558Z
DTSTART:20260811T050000Z
DTEND:20260811T090000Z
SUMMARY:Public Auction - BENTON,WASHINGTON
DESCRIPTION:Commissioner of State Lands Public Auction for counties: BENTON,WASHINGTON
LOCATION:, 
END:VEVENT
BEGIN:VEVENT
UID:1e280b45-b02f-4568-877a-730e63b37388
DTSTAMP:20260423T113558Z
DTSTART:20260812T050000Z
DTEND:20260812T090000Z
SUMMARY:Public Auction - CARROLL,MADISON
DESCRIPTION:Commissioner of State Lands Public Auction for counties: CARROLL,MADISON
LOCATION:, 
END:VEVENT
BEGIN:VEVENT
UID:80998ac4-0932-4a20-8b8d-0aa8172ffbe1
DTSTAMP:20260423T113558Z
DTSTART:20260818T050000Z
DTEND:20260818T090000Z
SUMMARY:Public Auction - MISSISSIPPI,POINSETT,CRAIGHEAD
DESCRIPTION:Commissioner of State Lands Public Auction for counties: MISSISSIPPI,POINSETT,CRAIGHEAD
LOCATION:, 
END:VEVENT
BEGIN:VEVENT
UID:4fd29abf-4518-4469-bb41-fe5084e754d0
DTSTAMP:20260423T113558Z
DTSTART:20260819T050000Z
DTEND:20260819T090000Z
SUMMARY:Public Auction - CRITTENDEN,CROSS,ST FRANCIS
DESCRIPTION:Commissioner of State Lands Public Auction for counties: CRITTENDEN,CROSS,ST FRANCIS
LOCATION:, 
END:VEVENT
BEGIN:VEVENT
UID:02873a16-edaa-43e3-b1ba-d3218e83a4fe
DTSTAMP:20260423T113558Z
DTSTART:20260825T050000Z
DTEND:20260825T090000Z
SUMMARY:Public Auction - BOONE,SEARCY,MARION,NEWTON
DESCRIPTION:Commissioner of State Lands Public Auction for counties: BOONE,SEARCY,MARION,NEWTON
LOCATION:, 
END:VEVENT
BEGIN:VEVENT
UID:f2270813-d811-4c05-8f01-9cda51e92ed9
DTSTAMP:20260423T113558Z
DTSTART:20260826T050000Z
DTEND:20260826T090000Z
SUMMARY:Public Auction - BAXTER,STONE
DESCRIPTION:Commissioner of State Lands Public Auction for counties: BAXTER,STONE
LOCATION:, 
END:VEVENT
BEGIN:VEVENT
UID:c57cf902-5b9f-49e0-9bbe-2f06031f8de1
DTSTAMP:20260423T113558Z
DTSTART:20260901T050000Z
DTEND:20260901T090000Z
SUMMARY:Public Auction - GRANT,HOT SPRING,SALINE,PERRY
DESCRIPTION:Commissioner of State Lands Public Auction for counties: GRANT,HOT SPRING,SALINE,PERRY
LOCATION:, 
END:VEVENT
BEGIN:VEVENT
UID:99babc41-5f5d-49f6-bf3f-7bf65c9fcc96
DTSTAMP:20260423T113558Z
DTSTART:20260903T050000Z
DTEND:20260903T090000Z
SUMMARY:Public Auction - INDEPENDENCE,JACKSON,WHITE,WOODRUFF
DESCRIPTION:Commissioner of State Lands Public Auction for counties: INDEPENDENCE,JACKSON,WHITE,WOODRUFF
LOCATION:, 
END:VEVENT
BEGIN:VEVENT
UID:60c348fd-e872-4ef9-b3e4-dab7f3cbf9fe
DTSTAMP:20260423T113558Z
DTSTART:20260909T050000Z
DTEND:20260909T090000Z
SUMMARY:Public Auction - VAN BUREN,CLEBURNE,FAULKNER
DESCRIPTION:Commissioner of State Lands Public Auction for counties: VAN BUREN,CLEBURNE,FAULKNER
LOCATION:, 
END:VEVENT
BEGIN:VEVENT
UID:fd6809f8-db96-4d68-a452-95134c57a653
DTSTAMP:20260423T113558Z
DTSTART:20260910T050000Z
DTEND:20260910T090000Z
SUMMARY:Public Auction - PHILLIPS,MONROE,LEE
DESCRIPTION:Commissioner of State Lands Public Auction for counties: PHILLIPS,MONROE,LEE
LOCATION:, 
END:VEVENT
BEGIN:VEVENT
UID:e5c7de35-4467-4a94-bab3-568660931e6b
DTSTAMP:20260423T113558Z
DTSTART:20260915T050000Z
DTEND:20260915T090000Z
SUMMARY:Public Auction - LAWRENCE,RANDOLPH,GREENE,CLAY
DESCRIPTION:Commissioner of State Lands Public Auction for counties: LAWRENCE,RANDOLPH,GREENE,CLAY
LOCATION:, 
END:VEVENT
BEGIN:VEVENT
UID:1561aace-ace1-449c-b4d0-2375ac39acef
DTSTAMP:20260423T113558Z
DTSTART:20260916T050000Z
DTEND:20260916T090000Z
SUMMARY:Public Auction - SHARP
DESCRIPTION:Commissioner of State Lands Public Auction for counties: SHARP
LOCATION:, 
END:VEVENT
BEGIN:VEVENT
UID:b0de1e60-aded-4dc8-a95e-b02d22655b3f
DTSTAMP:20260423T113558Z
DTSTART:20260917T050000Z
DTEND:20260917T090000Z
SUMMARY:Public Auction - IZARD,FULTON
DESCRIPTION:Commissioner of State Lands Public Auction for counties: IZARD,FULTON
LOCATION:, 
END:VEVENT
BEGIN:VEVENT
UID:bdf90517-68f4-44d2-95f3-891aae3ee888
DTSTAMP:20260423T113558Z
DTSTART:20260922T050000Z
DTEND:20260922T090000Z
SUMMARY:Public Auction - COLUMBIA,CALHOUN,UNION
DESCRIPTION:Commissioner of State Lands Public Auction for counties: COLUMBIA,CALHOUN,UNION
LOCATION:, 
END:VEVENT
BEGIN:VEVENT
UID:214c37b2-f4f7-47d3-8877-fdeb4f2494fa
DTSTAMP:20260423T113558Z
DTSTART:20260923T050000Z
DTEND:20260923T090000Z
SUMMARY:Public Auction - HOWARD,SEVIER,PIKE,POLK,MONTGOMERY
DESCRIPTION:Commissioner of State Lands Public Auction for counties: HOWARD,SEVIER,PIKE,POLK,MONTGOMERY
LOCATION:, 
END:VEVENT
END:VCALENDAR
